View In:
ArcGIS JavaScript
ArcGIS Online Map Viewer
ArcGIS Earth
ArcMap
View Footprint In:
ArcGIS Online Map Viewer
Service Description: Public/DWR_Mylar_Dawson
Name: Public/DWR_Mylar_Dawson
Description:
Single Fused Map Cache: true
Tile Info:
- Height: 256
- Width: 256
- DPI: 96
-
Levels of Detail: 6
- Format: MIXED
- Compression Quality: 75.0
- LERC Error: NaN
- Origin: X: -5120900.0
Y: 9998100.0
- Spatial Reference: 26913
(26913)
Extent:
XMin: 489205.136633897
YMin: 4302911.544522072
XMax: 575723.639672462
YMax: 4413912.943101336
Spatial Reference: 26913
(26913)
Initial Extent:
XMin: 489205.136633897
YMin: 4302911.544522072
XMax: 575723.639672462
YMax: 4413912.943101336
Spatial Reference: 26913
(26913)
Full Extent:
XMin: 489205.136633897
YMin: 4302911.544522072
XMax: 575723.639672462
YMax: 4413912.943101336
Spatial Reference: 26913
(26913)
Pixel Size X: 1.5213381930466852
Pixel Size Y: 1.5213381930466683
Band Count: 3
Pixel Type: U8
RasterFunction Infos: {"rasterFunctionInfos": [{
"name": "None",
"description": "",
"help": ""
}]}
Mensuration Capabilities: None
Has Histograms: true
Has Colormap: false
Has Multi Dimensions : false
Rendering Rule:
Min Scale: 64000
Max Scale: 2000
Min LOD: 0
Max LOD: 5
Copyright Text:
Service Data Type: esriImageServiceDataTypeRGB
Min Values: 16, 0, 16
Max Values: 255, 255, 255
Mean Values: 238.32341702056382, 236.60768704362013, 222.53988177261454
Standard Deviation Values: 35.39648168563526, 38.56195145956349, 41.21091197598201
Object ID Field: OBJECTID
Fields:
-
OBJECTID
(
type: esriFieldTypeOID, alias: OBJECTID
)
-
Shape
(
type: esriFieldTypeGeometry, alias: Shape
)
-
Name
(
type: esriFieldTypeString, alias: Name, length: 256
)
-
Shape_Length
(
type: esriFieldTypeDouble, alias: Shape_Length
)
-
Shape_Area
(
type: esriFieldTypeDouble, alias: Shape_Area
)
Default Mosaic Method: Northwest
Allowed Mosaic Methods: NorthWest,Center,LockRaster,ByAttribute,Nadir,Viewpoint,Seamline,None
SortField:
SortValue: null
Mosaic Operator: First
Default Compression Quality: 75
Default Resampling Method: Bilinear
Max Record Count: 1000
Max Image Height: 4100
Max Image Width: 15000
Max Download Image Count: 20
Max Mosaic Image Count: 20
Allow Raster Function: true
Allow Copy: null
Allow Analysis: null
Allow Compute TiePoints: false
Supports Statistics: true
Supports Advanced Queries: true
Use StandardizedQueries: true
Raster Type Infos:
Name: Raster Dataset
Description: Supports all ArcGIS Raster Datasets
Help:
Has Raster Attribute Table: false
Edit Fields Info: null
Ownership Based AccessControl For Rasters: null
Child Resources:
Info
Histograms
Key Properties
Legend
Raster Function Infos
Supported Operations:
Export Image
Query
Identify
Compute Histograms
Compute Statistics Histograms
Get Samples
Compute Class Statistics
Query Boundary
Compute Pixel Location
Validate
Project