View In:
ArcGIS JavaScript
ArcGIS Online Map Viewer
ArcGIS Earth
ArcMap
View Footprint In:
ArcGIS Online Map Viewer
Service Description: Public/DWR_Mylar_Misc
Name: Public/DWR_Mylar_Misc
Description:
Single Fused Map Cache: true
Tile Info:
- Height: 256
- Width: 256
- DPI: 96
-
Levels of Detail: 6
- Format: MIXED
- Compression Quality: 75.0
- LERC Error: NaN
- Origin: X: -5120900.0
Y: 9998100.0
- Spatial Reference: 26913
(26913)
Extent:
XMin: 467708.8246119296
YMin: 4191946.0542683257
XMax: 719470.5181646475
YMax: 4427764.123557917
Spatial Reference: 26913
(26913)
Initial Extent:
XMin: 467708.8246119296
YMin: 4191946.0542683257
XMax: 719470.5181646475
YMax: 4427764.123557917
Spatial Reference: 26913
(26913)
Full Extent:
XMin: 467708.8246119296
YMin: 4191946.0542683257
XMax: 719470.5181646475
YMax: 4427764.123557917
Spatial Reference: 26913
(26913)
Pixel Size X: 1.521338193046692
Pixel Size Y: 1.5213381930467087
Band Count: 3
Pixel Type: U8
RasterFunction Infos: {"rasterFunctionInfos": [{
"name": "None",
"description": "",
"help": ""
}]}
Mensuration Capabilities: None
Has Histograms: true
Has Colormap: false
Has Multi Dimensions : false
Rendering Rule:
Min Scale: 64000
Max Scale: 2000
Min LOD: 0
Max LOD: 5
Copyright Text:
Service Data Type: esriImageServiceDataTypeRGB
Min Values: 24, 0, 16
Max Values: 255, 255, 255
Mean Values: 246.55135575012477, 246.63252020154596, 239.55572931901565
Standard Deviation Values: 28.79445178432674, 29.455869559038522, 31.684532746681967
Object ID Field: OBJECTID
Fields:
-
OBJECTID
(
type: esriFieldTypeOID, alias: OBJECTID
)
-
Shape
(
type: esriFieldTypeGeometry, alias: Shape
)
-
Name
(
type: esriFieldTypeString, alias: Name, length: 256
)
-
Shape_Length
(
type: esriFieldTypeDouble, alias: Shape_Length
)
-
Shape_Area
(
type: esriFieldTypeDouble, alias: Shape_Area
)
Default Mosaic Method: Northwest
Allowed Mosaic Methods: NorthWest,Center,LockRaster,ByAttribute,Nadir,Viewpoint,Seamline,None
SortField:
SortValue: null
Mosaic Operator: First
Default Compression Quality: 75
Default Resampling Method: Bilinear
Max Record Count: 1000
Max Image Height: 4100
Max Image Width: 15000
Max Download Image Count: 20
Max Mosaic Image Count: 20
Allow Raster Function: true
Allow Copy: null
Allow Analysis: null
Allow Compute TiePoints: false
Supports Statistics: true
Supports Advanced Queries: true
Use StandardizedQueries: true
Raster Type Infos:
Name: Raster Dataset
Description: Supports all ArcGIS Raster Datasets
Help:
Has Raster Attribute Table: false
Edit Fields Info: null
Ownership Based AccessControl For Rasters: null
Child Resources:
Info
Histograms
Key Properties
Legend
Raster Function Infos
Supported Operations:
Export Image
Query
Identify
Compute Histograms
Compute Statistics Histograms
Get Samples
Compute Class Statistics
Query Boundary
Compute Pixel Location
Validate
Project